BEGIN:VCALENDAR
VERSION:2.0
PRODID:-//hacksw/handcal//NONSGML v1.0//EN
CALSCALE:GREGORIAN
BEGIN:VEVENT
UID:14
DTSTAMP:20260424T204049Z
DESCRIPTION:25-30 October 2025
DTSTART;VALUE=DATE;VALUE=DATE:20251024
LOCATION:Dublin\, Ireland
SUMMARY:ICANN84 Annual General Meeting (27th) - 25-30 October 2025\, Dublin\, Ireland
URL;VALUE=URI:https://www.dnforum.com/events/icann84-annual-general-meeting-27th-25-30-october-2025-dublin-ireland.14/
END:VEVENT
END:VCALENDAR